BEGIN:VCALENDAR
VERSION:2.0
PRODID:icalendar-ruby
CALSCALE:GREGORIAN
METHOD:PUBLISH
BEGIN:VEVENT
DTSTAMP:20260422T144019Z
UID:24-235328@lbccortez.org
DTSTART:20260426T170000Z
DTEND:20260426T190000Z
CLASS:PUBLIC
CREATED:20260421T140958
DESCRIPTION:Join us as we celebrate our 41st Anniversary Sunday with a spec
 ial service reflecting on all that God has done through the years. We’ll
  take time to remember His faithfulness\, rejoice in His blessings\, and l
 ook ahead with gratitude and hope. Following the 11:00 AM service\, we inv
 ite everyone to stay and enjoy a potluck meal together—a great time for 
 fellowship\, food\, and celebrating as a church family. We’d love for yo
 u to be part of this special day!
LAST-MODIFIED:20260421T140958
LOCATION:Lighthouse Baptist Church
SUMMARY:41st Anniversary Sunday 
URL;VALUE=URI:https://www.lbccortez.org/events/41st-anniversary-sunday/2026
 -04-26
ATTACH;FILENAME=41st-anniversary-main-graphic.jpg;FMTTYPE=image/jpeg:https:
 //dq5pwpg1q8ru0.cloudfront.net/2026/04/21/20/09/58/99cbd0a7-d957-48d0-a49d
 -14b61fdb721e/41st-anniversary-main-graphic.jpg
END:VEVENT
END:VCALENDAR
